BEGIN:VCALENDAR
VERSION:2.0
PRODID:-//Honolulu Foundation - ECPv6.15.20//NONSGML v1.0//EN
CALSCALE:GREGORIAN
METHOD:PUBLISH
X-ORIGINAL-URL:https://honolulufoundation.org
X-WR-CALDESC:Events for Honolulu Foundation
REFRESH-INTERVAL;VALUE=DURATION:PT1H
X-Robots-Tag:noindex
X-PUBLISHED-TTL:PT1H
BEGIN:VTIMEZONE
TZID:Pacific/Honolulu
BEGIN:STANDARD
TZOFFSETFROM:-1000
TZOFFSETTO:-1000
TZNAME:HST
DTSTART:20220101T000000
END:STANDARD
END:VTIMEZONE
BEGIN:VEVENT
DTSTART;TZID=Pacific/Honolulu:20230701T093000
DTEND;TZID=Pacific/Honolulu:20230701T153000
DTSTAMP:20260424T071713
CREATED:20250207T194529Z
LAST-MODIFIED:20250207T194529Z
UID:682-1688203800-1688225400@honolulufoundation.org
SUMMARY:Master Kiyomoto Ogasawara: Ogasawara-ryu 850 years of Samurai Heritage
DESCRIPTION:The Ogasawara Family lineage can be traced back to the 9th century; the 56th emperor of Japan. Ogasawara Nagakiyo\, founder of the Ogasawara-ryu School\, had served the first Shogun of the Kamakura Shogunate in 12 century as his instructor in the arts of Reiho (courtesy\, etiquette and protocol)\, archery\, and horse-mounted archery. Since then\, the Ogasawara family has instructed in those disciplines for Ashikaga\, and Tokugawa shoguns. The discipline has passed down from generation to generation within the Ogasawara Family.\nOgasawara Kiyomoto :Born in 1980 as the first son of Ogasawara Kiyotada\, the 31st Grand Master in Tokyo. At the age of three\, Kiyomoto began training for mounted archery (Yabusame). While in 5th Grade at elementary school\, he performed his first archer role in the Yabusame ritual dedicated to Tsurugaoka Hachimangu Shrine in Kamakura. He performed Yabusame in Hawaii in 1996\, when he was 15. After graduating from Osaka University School of Engineering Science\, he obtained his PhD in neuroscience from Tsukuba University. In keeping with the Ogasawara family discipline\, “One should not make a living out of teaching Kyu-ho (Etiquette\, Archery and Mounted Archery)\,” he currently works at a pharmaceutical company researching medicines for the treatment of cancer while using weekends to pass on the inherited teachings of Ogasawara-ryu to the next generation. \nSeminar 1: Samurai Training\,  Seminar 2:Riuals & Yabusame
URL:https://honolulufoundation.org/event/master-kiyomoto-ogasawara-ogasawara-ryu-850-years-of-samurai-heritage/
LOCATION:Hyatt Regency Resort & Spas\, 2424 Kalakaua Ave\, Honolulu\, HI\, 96815\, United States
CATEGORIES:Lecture
ATTACH;FMTTYPE=image/jpeg:https://honolulufoundation.org/wp-content/uploads/2025/02/070123-J.jpg
END:VEVENT
END:VCALENDAR