BEGIN:VCALENDAR
VERSION:2.0
PRODID:-//Honolulu Foundation - ECPv6.15.20//NONSGML v1.0//EN
CALSCALE:GREGORIAN
METHOD:PUBLISH
X-WR-CALNAME:Honolulu Foundation
X-ORIGINAL-URL:https://honolulufoundation.org
X-WR-CALDESC:Events for Honolulu Foundation
REFRESH-INTERVAL;VALUE=DURATION:PT1H
X-Robots-Tag:noindex
X-PUBLISHED-TTL:PT1H
BEGIN:VTIMEZONE
TZID:Pacific/Honolulu
BEGIN:STANDARD
TZOFFSETFROM:-1000
TZOFFSETTO:-1000
TZNAME:HST
DTSTART:20050101T000000
END:STANDARD
END:VTIMEZONE
BEGIN:VEVENT
DTSTART;TZID=Pacific/Honolulu:20141128T133000
DTEND;TZID=Pacific/Honolulu:20141128T153000
DTSTAMP:20260422T124609
CREATED:20250207T174931Z
LAST-MODIFIED:20250207T174931Z
UID:604-1417181400-1417188600@honolulufoundation.org
SUMMARY:Aika：Voice Healing
DESCRIPTION:Voice healing by former opera singer Aika.
URL:https://honolulufoundation.org/event/aika%ef%bc%9avoice-healing/
LOCATION:Liliokalani Gardens\, 300 Wai Nani Way\,\, Honolulu\, 96815\, United States
CATEGORIES:Demonstration
ATTACH;FMTTYPE=image/jpeg:https://honolulufoundation.org/wp-content/uploads/2025/02/Aika-san-Nov-28-2014-Liliokalani-Gardens-007-scaled.jpg
END:VEVENT
BEGIN:VEVENT
DTSTART;TZID=Pacific/Honolulu:20141108T100000
DTEND;TZID=Pacific/Honolulu:20141108T153000
DTSTAMP:20260422T124609
CREATED:20250207T175813Z
LAST-MODIFIED:20250207T175813Z
UID:613-1415440800-1415460600@honolulufoundation.org
SUMMARY:Skarma Gurmet: “Ladakh” Little Tibet in India
DESCRIPTION:Please join our free seminar at Hawaii Tokai International College by Skarma Gurmet\, a native Ladakhi. Ladakh; “Little Tibet in India” is the northernmost part of India\, at an elevation of 11000 ft. in the Himalayas. It has a unique culture\, climate\, topography\, lifestyle and religion; completely different from the rest of India.\nSpeaking the Ladakhi language\, a dialect of Tibetan\, its people have lived peacefully\, for centuries\, in a self-sustained society guided by Tibetan Buddhist spirituality. His Holiness the Dalai Lama visits Lakakh almost every year to conduct Bhuddist teachings. In addition to this seminar\, if you would like an opportunity to talk with Skarma on a more personal level\, we will have a Luncheon\, on-premise\, for $20. Please mail the order form below by Oct 30th\, 2014. \nSkarma Gurmet : a native Ladakhi\, lived in Hawaii from 1998 to 2000. Most of his work has been related to NPOs\, including: Leh Nutrition Project of ‘The Save the Children Fund (UK)’\, Monitoring and evaluation of other activities for the NGO\, and was South India project manager for the NGO LIFE Tokyo. In 2004\, he established the NGO Julay Ladakh in Tokyo to promote understanding between Ladakh and Japan\, focusing on sustainable\, eco-friendly development through international cooperation. \nEnglish: 10:00-11:30am\, Japanese: 1:30-3:30pm Lunch ($20)
URL:https://honolulufoundation.org/event/skarma-gurmet-ladakh-little-tibet-in-india/
LOCATION:Hawaii Tokai International University\, 2241 Kapiolani Blvd\, Honolulu\, HI\, 96815\, United States
CATEGORIES:Lecture
ATTACH;FMTTYPE=image/jpeg:https://honolulufoundation.org/wp-content/uploads/2025/02/Skarma.jpg
END:VEVENT
BEGIN:VEVENT
DTSTART;TZID=Pacific/Honolulu:20130922T160000
DTEND;TZID=Pacific/Honolulu:20130922T180000
DTSTAMP:20260422T124609
CREATED:20250207T174337Z
LAST-MODIFIED:20250207T174337Z
UID:601-1379865600-1379872800@honolulufoundation.org
SUMMARY:Dr Kunio Yasue Aikido Practice　２（Loving Energy)
DESCRIPTION:Aikido training by Kunio Yasue.
URL:https://honolulufoundation.org/event/dr-kunio-yasue-aikido-practice%e3%80%80%ef%bc%92%ef%bc%88loving-energy/
LOCATION:HI
CATEGORIES:Workshops
ATTACH;FMTTYPE=image/jpeg:https://honolulufoundation.org/wp-content/uploads/2025/02/DSCN1754-rotated.jpg
END:VEVENT
BEGIN:VEVENT
DTSTART;TZID=Pacific/Honolulu:20130921T133000
DTEND;TZID=Pacific/Honolulu:20130921T153000
DTSTAMP:20260422T124609
CREATED:20250207T173703Z
LAST-MODIFIED:20250207T173756Z
UID:595-1379770200-1379777400@honolulufoundation.org
SUMMARY:uantum physicist Dr. Kunio Yasue： "The Equation of Love."
DESCRIPTION:Lecture by world-renowned quantum physicist Dr. Kunio Yasue\, known for the Yasue Equation: “The Equation of Love.”
URL:https://honolulufoundation.org/event/uantum-physicist-dr-kunio-yasue%ef%bc%9a-the-equation-of-love/
LOCATION:Parish Hall\, Centra Union Church\, 1660 S Beretania St\, Honolulu\, 96826\, United States
CATEGORIES:Lecture
ATTACH;FMTTYPE=image/jpeg:https://honolulufoundation.org/wp-content/uploads/2025/02/Yasue-Sensei.jpg
END:VEVENT
BEGIN:VEVENT
DTSTART;TZID=Pacific/Honolulu:20130918T160000
DTEND;TZID=Pacific/Honolulu:20130918T180000
DTSTAMP:20260422T124609
CREATED:20250207T174131Z
LAST-MODIFIED:20250207T174131Z
UID:598-1379520000-1379527200@honolulufoundation.org
SUMMARY:Dr Kunio Yasue Aikido Practice　１（Loving Energy)
DESCRIPTION:Aikido training by Kunio Yasue.
URL:https://honolulufoundation.org/event/dr-kunio-yasue-aikido-practice%e3%80%80%ef%bc%91%ef%bc%88loving-energy/
LOCATION:Myohoji Temple\, 2003 Nuuanu Ave\, Honolulu\, HI\, 96817\, United States
CATEGORIES:Workshops
ATTACH;FMTTYPE=image/jpeg:https://honolulufoundation.org/wp-content/uploads/2025/02/DSCN1605.jpg
END:VEVENT
BEGIN:VEVENT
DTSTART;TZID=Pacific/Honolulu:20130422T173000
DTEND;TZID=Pacific/Honolulu:20130422T203000
DTSTAMP:20260422T124609
CREATED:20250207T173212Z
LAST-MODIFIED:20250207T173212Z
UID:591-1366651800-1366662600@honolulufoundation.org
SUMMARY:Dr. Kenichiro Mogi Welcome Reception
DESCRIPTION:
URL:https://honolulufoundation.org/event/dr-kenichiro-mogi-welcome-reception/
LOCATION:Tamarind Room\, Kapiolani Community College\, 4303 Diamond Head Rd\, Honolulu\, 96816\, United States
CATEGORIES:Reception
ATTACH;FMTTYPE=image/jpeg:https://honolulufoundation.org/wp-content/uploads/2025/02/kenmogiblack.jpg
END:VEVENT
BEGIN:VEVENT
DTSTART;TZID=Pacific/Honolulu:20130421T130000
DTEND;TZID=Pacific/Honolulu:20130421T160000
DTSTAMP:20260422T124609
CREATED:20250207T172719Z
LAST-MODIFIED:20250207T172719Z
UID:588-1366549200-1366560000@honolulufoundation.org
SUMMARY:"Emotive Brain" Conversation with a Brain Scientist: Dr. Kenichiro Mogi
DESCRIPTION:“..\, the most profound enigma in considering the relation between the mind and the brain is that of qualia\, the subjective sensory qualities. …The individual\, very unique characters that accompany these sensations are so hard to understand\, to embed in the scientific world view.” The last enigma in Mind-brain problem by Dr. Mogi\nDr. Mogi has been searching for the relationship between the mind and the brain\, focusing on “Qualia”; the subjective sensory qualities – like the redness of red. During his first talk in Hawaii\, he will discuss his last enigma in the Mind-brain problem. The discussion will be in English (Part I) and also in Japanese (Part II). \nKenichiro Mogi is a Japanese brain scientist and Senior Researcher at Sony Computer Science Laboratories\, and a visiting professor at Tokyo Institute of Technology and Tokyo National University of Fine Arts and Music. He was born in 1962 in Tokyo and graduated from Tokyo University with a degree in science and law. Dr. Mogi earned a PhD with his thesis “Mathematical Model of Muscle Contraction.”After his post-doctoral study at Cambridge University\, he won the prestigious Kobayashi Hideo Prize for his book\, “Brain and Imagination” in 2005\, and also was awarded the Kuwabara Takeo Prize for the book\, “Now\, From Here to Everywhere”. He has published about 20 books\, including one in English. He has also served as a commentator with NHK’s “The Professional” since 2006.
URL:https://honolulufoundation.org/event/brain-scientist-dr-kenichiro-mogi/
LOCATION:Spalding Hall\, University of Hawaii\, 2450 Maile Wy\, Honolulu\, HI\, 96822\, United States
CATEGORIES:Lecture
ATTACH;FMTTYPE=image/jpeg:https://honolulufoundation.org/wp-content/uploads/2025/02/800px-Ken_Mogi.jpg
END:VEVENT
BEGIN:VEVENT
DTSTART;TZID=Pacific/Honolulu:20111115T140000
DTEND;TZID=Pacific/Honolulu:20111115T180000
DTSTAMP:20260422T124609
CREATED:20250207T172347Z
LAST-MODIFIED:20250207T172347Z
UID:585-1321365600-1321380000@honolulufoundation.org
SUMMARY:Active Listening Workshop by Dr. Hideko Suzuki No.2
DESCRIPTION:A workshop by Dr. Hideko Suzuki\, a leading expert in active listening. Japanese only.
URL:https://honolulufoundation.org/event/active-listening-workshop-by-dr-hideko-suzuki-no-2/
LOCATION:HI
CATEGORIES:Workshops
ATTACH;FMTTYPE=image/jpeg:https://honolulufoundation.org/wp-content/uploads/2025/02/DSCF2009-1-scaled.jpg
END:VEVENT
BEGIN:VEVENT
DTSTART;TZID=Pacific/Honolulu:20111113T133000
DTEND;TZID=Pacific/Honolulu:20111113T153000
DTSTAMP:20260422T124609
CREATED:20250207T171351Z
LAST-MODIFIED:20250207T171351Z
UID:578-1321191000-1321198200@honolulufoundation.org
SUMMARY:Dr. Hideko Suzuki: Bonds of Love With the Dying
DESCRIPTION:As human beings\, nothing is more frightening than the\nfear of death. For the person who is facing death\, it means\nthe end of life\, total emptiness\, and leaving behind loved\nones. At the same time\, family and friends are struggling\nto come to terms with their loss. Death is inescapable\, solemn\,\ninevitable. One might say that the whole meaning of\nlife is inherently bound to the inevitability of death.\n“Happy Way to Die” by Dr. Hideko Suzuki\nMany people have shared their moment of death with Dr. and Sister\nHideko Suzuki. At this seminar\, Dr. Suzuki will share her wisdom & rich experience about how to cope\nwith death\, how to support and strengthen the bond between family and loved ones facing death. Please\njoin us in musing together on the subject of death\, which is\, simultaneously\, a musing about life. Because of the mature nature of the subject\, we respectfully ask that children not attend.
URL:https://honolulufoundation.org/event/dr-hideko-suzuki-bonds-of-love-with-the-dying/
LOCATION:Spalding Hall\, University of Hawaii\, 2450 Maile Wy\, Honolulu\, HI\, 96822\, United States
CATEGORIES:Lecture
ATTACH;FMTTYPE=image/jpeg:https://honolulufoundation.org/wp-content/uploads/2025/02/IMG_0684-scaled.jpg
END:VEVENT
BEGIN:VEVENT
DTSTART;TZID=Pacific/Honolulu:20111112T130000
DTEND;TZID=Pacific/Honolulu:20111112T170000
DTSTAMP:20260422T124609
CREATED:20250207T172121Z
LAST-MODIFIED:20250207T172121Z
UID:581-1321102800-1321117200@honolulufoundation.org
SUMMARY:Active Listening Workshop by Dr. Hideko Suzuki
DESCRIPTION:A workshop by Dr. Hideko Suzuki\, a leading expert in active listening. Japanese only.
URL:https://honolulufoundation.org/event/active-listening-workshop-by-dr-hideko-suzuki/
LOCATION:Women’s Building\, Central Union Church\, 1660 S Beretania St\, Honolulu\, HI\, 96826\, United States
ATTACH;FMTTYPE=image/jpeg:https://honolulufoundation.org/wp-content/uploads/2025/02/Book001-scaled.jpg
END:VEVENT
BEGIN:VEVENT
DTSTART;TZID=Pacific/Honolulu:20110918T143000
DTEND;TZID=Pacific/Honolulu:20110918T163000
DTSTAMP:20260422T124609
CREATED:20250207T170240Z
LAST-MODIFIED:20250207T170240Z
UID:575-1316356200-1316363400@honolulufoundation.org
SUMMARY:Hatsume Sato at Myohoji Temple
DESCRIPTION:Another lecture of Hatsume Sato in Japanese with cooking lessons.
URL:https://honolulufoundation.org/event/hatsume-sato-at-myohoji-temple/
LOCATION:Myohoji Temple\, 2003 Nuuanu Ave\, Honolulu\, HI\, 96817\, United States
CATEGORIES:Workshops
ATTACH;FMTTYPE=image/png:https://honolulufoundation.org/wp-content/uploads/2025/02/Hatsume.png
END:VEVENT
BEGIN:VEVENT
DTSTART;TZID=Pacific/Honolulu:20110917T130000
DTEND;TZID=Pacific/Honolulu:20110917T160000
DTSTAMP:20260422T124609
CREATED:20250207T165756Z
LAST-MODIFIED:20250207T165756Z
UID:570-1316264400-1316275200@honolulufoundation.org
SUMMARY:Hatsume Sato ~Cojoining Hearts With Love~
DESCRIPTION:Hatsume is back!\nMs. Sato’s last visit to Hawaii\, in 2008\, was a “sold-out” event ! Now she is back; this time to share her thoughts of how to “conjoin your heart with others through love”\, based on her experiences of more than 30 years of community service. \nSince 1992\, Ms. Hatsume Sato has presided over a magical place in northern Japan called “Ischia in the Woods”. People from all over the world are drawn to “Ischia” seeking relief from the acute mental and physiological health problem caused by living in such a troubled\, stressful world. Ms. Sato provides food\, love\, heal-ing\, energy\, advice\, and hugs to people who seek her compassion. Her long commitment to social welfare and community based educational activities has earned her numerous awards from the International Soroptimist Society\, an organization dedicated to improving the lives of women and girls in more than 120 nations around the world.
URL:https://honolulufoundation.org/event/hatsume-sato-cojoining-hearts-with-love/
LOCATION:Ohia Auditorium\, Kapiolani Community College\, 4303 Diamond Head Road\, Honolulu\, 96816\, United States
CATEGORIES:Lecture
ATTACH;FMTTYPE=image/png:https://honolulufoundation.org/wp-content/uploads/2025/02/Hatsume-sensei.png
END:VEVENT
BEGIN:VEVENT
DTSTART;TZID=Pacific/Honolulu:20101114T133000
DTEND;TZID=Pacific/Honolulu:20101114T160000
DTSTAMP:20260422T124609
CREATED:20250207T164531Z
LAST-MODIFIED:20250207T164531Z
UID:562-1289741400-1289750400@honolulufoundation.org
SUMMARY:Hawaii Premiere: Miracle of the Gifted Quarter with Director Fumiko Irie
DESCRIPTION:Please join us for the Hawaii Première of this heart-warming\, eye-opening documentary\, which is rapidly gaining an international following. The Director\, Ms. Fumiko Irie\, will be present to share her insights.\nKatsuko is a teacher of impaired children in Japan. Her insightful nar-ration reveals the incredible wisdom that this forgotten segment of our school population has to teach us about our own lives. Be sure to see this screening\, and experience the awakening of your own heart\, as you discover “The Miracle of the Gifted Quarter.”
URL:https://honolulufoundation.org/event/hawaii-premiere-miracle-of-the-gifted-quarter-with-director-fumiko-irie/
LOCATION:Spalding Hall\, University of Hawaii\, 2450 Maile Wy\, Honolulu\, HI\, 96822\, United States
CATEGORIES:Film Showing
ATTACH;FMTTYPE=image/jpeg:https://honolulufoundation.org/wp-content/uploads/2025/02/88a6049115b1cff11014527d1e134ffd.jpg
END:VEVENT
BEGIN:VEVENT
DTSTART;TZID=Pacific/Honolulu:20100124T150000
DTEND;TZID=Pacific/Honolulu:20100124T170000
DTSTAMP:20260422T124609
CREATED:20250207T165107Z
LAST-MODIFIED:20250207T165107Z
UID:566-1264345200-1264352400@honolulufoundation.org
SUMMARY:Experience the Art of Sacred Mandalas with Healing Vocals
DESCRIPTION:Learn how mandala artist Kaho Koinuma creates pointillistic original drawings through prayer and devotion. How the mandalas have helped her through challenging times and supported expansion. How they continue to refl ect the true nature of all things and help her discover the Truth of her own being. And\, much much more…\nMandalas have been a sacred tool for meditation\, healing\, and transformation in most cultures throughout human history.\nA Mandala (Sanskrit word for “Circle\,” meaning wholeness\, unity\, oneness\, and womb fo creation) represents the infi nite layers of consciousness and geometric design of the universe.\nThe afternoon will also include a slideshow of over 60 mandalas with Sanskrit chanting by\, Vidya Yuka designed to invoke inspiration\, awaken the Heart\, and invite deep relaxation.\nSanskrit Chanting is the essence of Universal Love. This pure and sacred vibration (sound) was transmitted into the hearts of the great sages and passed down through aural tradition for over 5ooo years. Like mandalas\, they contain the wizdom and information from the Universe\, activate the remembrance of who one truly is\, and support the blossoming of one’s fullest potential. \nAfter the show\, one of her work was donated to Shneider Hospital Honolulu
URL:https://honolulufoundation.org/event/experience-the-art-of-sacred-mandalas-with-healing-vocals/
LOCATION:Spalding Hall\, University of Hawaii\, 2450 Maile Wy\, Honolulu\, HI\, 96822\, United States
CATEGORIES:Art Show
ATTACH;FMTTYPE=image/jpeg:https://honolulufoundation.org/wp-content/uploads/2025/02/kahos-face.jpg
END:VEVENT
BEGIN:VEVENT
DTSTART;TZID=Pacific/Honolulu:20081116T130000
DTEND;TZID=Pacific/Honolulu:20081116T153000
DTSTAMP:20260422T124609
CREATED:20250207T163941Z
LAST-MODIFIED:20250208T013537Z
UID:558-1226840400-1226849400@honolulufoundation.org
SUMMARY:Hatsume Sato\, Founder of "Ischia in the Forest" House of Rest and Relief
DESCRIPTION:Since 1992\, Ms. Hatsume Sato has presided over a magical place in Northern Japan called “Ischia in the Forest” .  People from all over the world are drawn to “Ischia” seeking relief from the acute mental and physiological health problem caused by living in such a troubled\, stressful world.   Ms. Sato provides food\, love\, healing\, energy\, advice\, and hugs to people who seek her compassion.  Her long commitment to social welfare and community based educational activities has earned her numerous awards from the International Soroptimist Society\, an organization dedicated to improving the lives of women and girls in more than 120 nations around the world. \nPlease  join us in experiencing  Ms. Hatsume Sato’s wisdom.
URL:https://honolulufoundation.org/event/hatsume-sato-founder-of-ischia-in-the-forest-house-of-rest-and-relief/
LOCATION:Queen Liliokalani Center\, University of Hawaii at Manoa\, 2600 Campus Rd\, Honoluul\, HI\, 96822\, United States
CATEGORIES:Lecture,Workshops
ATTACH;FMTTYPE=image/jpeg:https://honolulufoundation.org/wp-content/uploads/2025/02/111608HatsumeJPpdf.jpg
END:VEVENT
BEGIN:VEVENT
DTSTART;TZID=Pacific/Honolulu:20081023T100000
DTEND;TZID=Pacific/Honolulu:20081025T170000
DTSTAMP:20260422T124609
CREATED:20250207T163508Z
LAST-MODIFIED:20250208T013314Z
UID:554-1224756000-1224954000@honolulufoundation.org
SUMMARY:Art Work by Sachiko Adachi
DESCRIPTION:Sachiko Adachi\, born in Tokyo and a graduate of Waseda University\, transcended conventional art concepts when she introduced her Cosmic Art to the world in the 1980s. \nMs. Adachi’s “12 Hitoe”; a 12-layered Kimono inspired by the medieval  Japanese court ladies’ era\, was featured at the 1988 Japan Expo in Los Angeles.  This marked the United States debut of Ms. Adachi’s Cosmic Art. \nIn 1993\, Ms. Adachi launched her own gallery Space Sachi\, in Tokyo.  Ironically and sadly\, Ms. Adachi passed away\, at age 47\,  just one day before the opening. Cosmic Art remains a strong influence in major art venues world today.. \n \nWe invite you to join us at The Art Board\, October 23-35\, to experience the world of Cosmic Art\, featuring the original works of Sachiko Adachi in a first-ever Hawaii showing. \n 
URL:https://honolulufoundation.org/event/art-work-by-sachiko-adachi/
LOCATION:The Art Board\, 1170 Nuuanu Ave\, Honolulu\, HI\, 96817\, United States
CATEGORIES:Exhibition
ATTACH;FMTTYPE=image/jpeg:https://honolulufoundation.org/wp-content/uploads/2025/02/Fryer_En20Sachiko3_Page_1-scaled.jpg
END:VEVENT
BEGIN:VEVENT
DTSTART;TZID=Pacific/Honolulu:20081021T190000
DTEND;TZID=Pacific/Honolulu:20081021T203000
DTSTAMP:20260422T124609
CREATED:20250207T163058Z
LAST-MODIFIED:20250208T012941Z
UID:550-1224615600-1224621000@honolulufoundation.org
SUMMARY:Naoki Nishimura Charity Peace Concert "Compositon for Hawaii"
DESCRIPTION:Born in Matsuyama\, Japan in 1949\, Mr. Nishimura is a graduate of Tokyo National University of Fine Arts and Music. He was a composer of music for television and films before returning to his birthplace\, and becoming a lecturer at Ehime University.  Currently\, he composes from his studio in Kochi\, where he has been focusing on children’s songs\, among his other projects. \nIt was in November 1989 that he performed his first overseas concert at the Ovis Auditorium at the University of Hawaii. \nIn 1999 he was selected as musical director of the NHK special documentary\, “Journey of the Soul―88 Shrines of Shikoku”. During this global pilgrimage to 88 places touches by the     tragedies of history\, including Hiroshima\, Berlin\, & Pearl      Harbor\, he composed and performed requiems and musical prayers for peace\, concluding with his 88th performance at the “Unified Observatory” in the suburbs of Seoul\, Korea. \nIn 2007\, he was so moved by the Hokule‘a Voyage to Japan\, he composed a suite “Spiritual Voyage\, Hokule‘a ” to honor the vessel and its voyages for peace. \n 
URL:https://honolulufoundation.org/event/naoki-nishimura-charity-peace-concert-compositon-for-hawaii/
LOCATION:Parish Hall\, Centra Union Church\, 1660 S Beretania St\, Honolulu\, 96826\, United States
ATTACH;FMTTYPE=image/png:https://honolulufoundation.org/wp-content/uploads/2025/02/Nishimura.png
END:VEVENT
BEGIN:VEVENT
DTSTART;TZID=Pacific/Honolulu:20080223T133000
DTEND;TZID=Pacific/Honolulu:20080223T153000
DTSTAMP:20260422T124609
CREATED:20250207T162524Z
LAST-MODIFIED:20250208T012901Z
UID:546-1203773400-1203780600@honolulufoundation.org
SUMMARY:Meet the Artist! Morio Matsui
DESCRIPTION:Morio Matsui \n \nBorn in Toyohashi\, Japan in 1942\, Morio Matsui graduated from the Musashino College of Fine Arts (Tokyo) before continuing his training in France\, at the Académie Julian and later at the Ecole des Beaux Arts in Paris. Having lived in Corsica for the past ten years\, he is the first Japanese artist to whom France has awarded the titles of “Chevalier des Arts et des Lettres” (2000) and “Chevalier de la Légion d’Honneur” (2003) for his remarkable contribution to the development of Franco-Japanese co-operation in cultural matters. \nWeb site : http://www.matsuimorio.jp/Zindex.htm \nWhen he met Picasso\, Picasso said\, “This fellow has eyes of a feverish fight with real swords such that I might be outstripped some time.” Picasso also said\, “You will become a painter like me\, however\, don’t try to be me\, but Morio Matsui yourself.” \n  \n 
URL:https://honolulufoundation.org/event/meet-the-artist-morio-matsui/
LOCATION:The Art Board\, 1170 Nuuanu Ave\, Honolulu\, HI\, 96817\, United States
CATEGORIES:Art Show,Demonstration
ATTACH;FMTTYPE=image/jpeg:https://honolulufoundation.org/wp-content/uploads/2025/02/matuiJP.jpg
END:VEVENT
BEGIN:VEVENT
DTSTART;TZID=Pacific/Honolulu:20071028T140000
DTEND;TZID=Pacific/Honolulu:20071028T170000
DTSTAMP:20260422T124609
CREATED:20250207T161936Z
LAST-MODIFIED:20250208T012701Z
UID:543-1193580000-1193590800@honolulufoundation.org
SUMMARY:Documentary Film Gaia Symphony No3
DESCRIPTION:— The “Gaia Symphony” documentary film series—the first section of which was released in Japan in 1992—delivers the message that planet earth is a living organism and we humans are given lives as part of that organism.  This strong message captivated the hearts of many viewers who were interested in environmental protection as well as the relationship between the earth and people\, and eventually led to the production of a total of six films to date.  Films in the “Gaia Symphony” series have been presented in many places\, both inside and outside Japan solely on a non-profit basis.  Indeed\, the series is a hidden\, enduring hit that has not resorted to commercial distribution. \nSince 200 of the 270 total available tickets were sold immediately after sales started\, with many more people expressing an interest\, the Friends decided to hold a second screening on Sunday\, October 28 at 2 pm in Spalding Auditorium at the University of Hawai‘i at Manoa.
URL:https://honolulufoundation.org/event/documentary-film-gaia-symphony-no3/
LOCATION:Spalding Hall\, University of Hawaii\, 2450 Maile Wy\, Honolulu\, HI\, 96822\, United States
CATEGORIES:Film Showing
ATTACH;FMTTYPE=image/jpeg:https://honolulufoundation.org/wp-content/uploads/2025/02/gaia-p-3-1.jpg
END:VEVENT
BEGIN:VEVENT
DTSTART;TZID=Pacific/Honolulu:20071027T140000
DTEND;TZID=Pacific/Honolulu:20071027T163000
DTSTAMP:20260422T124609
CREATED:20250207T160527Z
LAST-MODIFIED:20250207T160644Z
UID:535-1193493600-1193502600@honolulufoundation.org
SUMMARY:Hawaii Premier Documentary Film Gaia Symphony No3 with Director Jin Tatsumura
DESCRIPTION:The Honolulu Foundation announced today that the celebrated Japanese documentary film\, “Gaia Symphony No. 3\,” will be shown at the Doris Duke Theatre\, Honolulu Academy of Arts\, on Saturday\, October 27at 2 pm. \nThe “Gaia Symphony” documentary film series was created by Japanese director\, Jin Tatsumura\, inspired by the idea that the Earth is a living organism which has its own mind and that we humans take an active role in realizing the Earth’s intentions. \nThe film looks at connections between the peoples of the Pacific\, in Alaska\, Hawai‘i\, and northern Japan\, from ancient times through the present day\, through the stories and music of those peoples\, and images of the vast ocean.
URL:https://honolulufoundation.org/event/535/
LOCATION:Doris Duke Theater\, 900 S Beretania St\, Honolulu\, HI\, 96814\, United States
END:VEVENT
BEGIN:VEVENT
DTSTART;TZID=Pacific/Honolulu:20071026T080000
DTEND;TZID=Pacific/Honolulu:20071026T180000
DTSTAMP:20260422T124609
CREATED:20250207T161348Z
LAST-MODIFIED:20250208T012554Z
UID:540-1193385600-1193421600@honolulufoundation.org
SUMMARY:Hawaii Premier of "Gaia Dymphony" Reception
DESCRIPTION:The Honolulu Foundation\, in cooperation with the Polynesian Voyaging Society\, is excited to sponsor the Hawaii premier showing of the acclaimed documentary film\, “Gaia Symphony”\, directed by Jin Tatsumura. The film immerses us in incredibly beautiful scenes of nature\, while introducing extraordinary individuals pursuing their lives in harmony with Mother Earth. \nWe cordially invite you to attend the exclusive Preview Reception & Dinner at the Halekulani Hotel on Friday October 26\, 2007. A short discussion about the film by its director\, Mr. Jin Tatsumura\, and one of its featured subjects\, Mr. Nainoa Thompson\, are scheduled. Selected excerpts from the film will be also shown at this reception.
URL:https://honolulufoundation.org/event/hawaii-premier-of-gaia-dymphony-reception/
LOCATION:Halekulani Hotel\, 2199 Kalia Rd\, Honolulu\, HI\, 96815\, United States
CATEGORIES:Dinner,Reception
ATTACH;FMTTYPE=image/jpeg:https://honolulufoundation.org/wp-content/uploads/2025/02/Reception5.jpg
END:VEVENT
BEGIN:VEVENT
DTSTART;TZID=Pacific/Honolulu:20061209T100000
DTEND;TZID=Pacific/Honolulu:20061209T143000
DTSTAMP:20260422T124609
CREATED:20250207T155359Z
LAST-MODIFIED:20250208T012027Z
UID:528-1165658400-1165674600@honolulufoundation.org
SUMMARY:Finding your Inner Power: Lessons from Tempu Nakamura
DESCRIPTION:Tempu Nakamura [1876-1968] was one of the\npreeminent thinkers of modern Japan. Son of a\nSamurai\, a secret agent during the Sino-Japanese and\nRusso-Japanese Wars\, a medical student at Columbia\nUniversity\, a student of guru Kaliapa\, a body guard\nof Sun Yat-sen\, and teacher… these descriptions only\ntouch upon the life of Tempu Nakamura who\ndeveloped the philosophy of Shin-shin Toitsu. His\nlife philosophy has influenced many\, including\nprominent leaders\, such as former Prime Minister\nTakashi Hara\, and John D. Rockefeller III.\nLearn how one life can influence so many\, including yours. \nGuest Speaker ： Ryohei Kamiwatari is the author of more than twenty\nbooks\, including three books about Tempu Nakamura that\nbecame critically-acclaimed best-sellers in Japan. After a\nnear-death experience\, he realized that each of us has a\nhigher purpose in life\, and in more than 300 public\nappearances a year\, he shares his vision of this higher\npurpose. In this lecture\, Mr. Kamiwatari will discuss his\nthoughts on the essence of Tempu Philosophy\, why it is\nso intriguing\, and how it has profoundly affected his own life. \n  \n  \n  \n  \n 
URL:https://honolulufoundation.org/event/finding-your-inner-power-lessons-from-tempu-nakamura/
LOCATION:East West Center Imin Hall\, 1777 East-West Road\, Honolulu\, HI\, 96848\, United States
CATEGORIES:Lecture,Lunch
ATTACH;FMTTYPE=image/jpeg:https://honolulufoundation.org/wp-content/uploads/2025/02/12.9.06.-flyer.jpg
END:VEVENT
BEGIN:VEVENT
DTSTART;TZID=Pacific/Honolulu:20060709T100000
DTEND;TZID=Pacific/Honolulu:20060709T130000
DTSTAMP:20260422T124609
CREATED:20250207T154625Z
LAST-MODIFIED:20250208T011736Z
UID:525-1152439200-1152450000@honolulufoundation.org
SUMMARY:Translator Akiko Yamakawa
DESCRIPTION:Welcoming Akiko Yamakawa\, well known for her Japanese translations of Shirley MacLaine’s works\, and Yurika Nozaki for a workshop.
URL:https://honolulufoundation.org/event/translator-akiko-yamakawa/
LOCATION:Gedatsu Church\, Honolulu HI\, 6095 Summer St\, Honolulu\, HI\, 96821\, United States
CATEGORIES:Workshops
ATTACH;FMTTYPE=image/jpeg:https://honolulufoundation.org/wp-content/uploads/2025/02/Akiko-sensei.jpg
END:VEVENT
END:VCALENDAR