BEGIN:VCALENDAR
VERSION:2.0
PRODID:-//Honolulu Foundation - ECPv6.15.20//NONSGML v1.0//EN
CALSCALE:GREGORIAN
METHOD:PUBLISH
X-ORIGINAL-URL:https://honolulufoundation.org
X-WR-CALDESC:Events for Honolulu Foundation
REFRESH-INTERVAL;VALUE=DURATION:PT1H
X-Robots-Tag:noindex
X-PUBLISHED-TTL:PT1H
BEGIN:VTIMEZONE
TZID:Pacific/Honolulu
BEGIN:STANDARD
TZOFFSETFROM:-1000
TZOFFSETTO:-1000
TZNAME:HST
DTSTART:20250101T000000
END:STANDARD
END:VTIMEZONE
BEGIN:VEVENT
DTSTART;TZID=Pacific/Honolulu:20260614T130000
DTEND;TZID=Pacific/Honolulu:20260614T150000
DTSTAMP:20260422T124442
CREATED:20250709T194317Z
LAST-MODIFIED:20250709T194317Z
UID:823-1781442000-1781449200@honolulufoundation.org
SUMMARY:Yabusame Hawaii 2026 at Kualoa Ranch
DESCRIPTION:
URL:https://honolulufoundation.org/event/yabusame-hawaii-2026-at-kualoa-ranch/
LOCATION:Kualoa Ranch\, Kaneohe\, HI\, 96744\, United States
END:VEVENT
END:VCALENDAR