BEGIN:VCALENDAR
VERSION:2.0
PRODID:-//Honolulu Foundation - ECPv6.15.20//NONSGML v1.0//EN
CALSCALE:GREGORIAN
METHOD:PUBLISH
X-WR-CALNAME:Honolulu Foundation
X-ORIGINAL-URL:https://honolulufoundation.org
X-WR-CALDESC:Events for Honolulu Foundation
REFRESH-INTERVAL;VALUE=DURATION:PT1H
X-Robots-Tag:noindex
X-PUBLISHED-TTL:PT1H
BEGIN:VTIMEZONE
TZID:Pacific/Honolulu
BEGIN:STANDARD
TZOFFSETFROM:-1000
TZOFFSETTO:-1000
TZNAME:HST
DTSTART:20220101T000000
END:STANDARD
END:VTIMEZONE
BEGIN:VEVENT
DTSTART;TZID=Pacific/Honolulu:20230630T113000
DTEND;TZID=Pacific/Honolulu:20230630T133000
DTSTAMP:20260424T052724
CREATED:20250207T195426Z
LAST-MODIFIED:20250207T195426Z
UID:691-1688124600-1688131800@honolulufoundation.org
SUMMARY:Master Kiyomoto Ogasawara: Ogasawara-ryu Eating Etiquette
DESCRIPTION:Master Kiyomoto Ogasawara’s workshop Ogasawara way of eating appropriately. \nDelicious Lunch included.
URL:https://honolulufoundation.org/event/master-kiyomoto-ogasawara-ogasawara-ryu-eating-etiquette/
LOCATION:Akira Restaurant Honolulu\, 1150 S King St\, Honolulu\, 96814\, United States
CATEGORIES:Workshops
ATTACH;FMTTYPE=image/jpeg:https://honolulufoundation.org/wp-content/uploads/2025/02/unnamed.jpg
END:VEVENT
END:VCALENDAR