BEGIN:VCALENDAR
VERSION:2.0
PRODID:-//Honolulu Foundation - ECPv6.15.20//NONSGML v1.0//EN
CALSCALE:GREGORIAN
METHOD:PUBLISH
X-ORIGINAL-URL:https://honolulufoundation.org
X-WR-CALDESC:Events for Honolulu Foundation
REFRESH-INTERVAL;VALUE=DURATION:PT1H
X-Robots-Tag:noindex
X-PUBLISHED-TTL:PT1H
BEGIN:VTIMEZONE
TZID:Pacific/Honolulu
BEGIN:STANDARD
TZOFFSETFROM:-1000
TZOFFSETTO:-1000
TZNAME:HST
DTSTART:20050101T000000
END:STANDARD
END:VTIMEZONE
BEGIN:VEVENT
DTSTART;TZID=Pacific/Honolulu:20061209T100000
DTEND;TZID=Pacific/Honolulu:20061209T143000
DTSTAMP:20260422T143347
CREATED:20250207T155359Z
LAST-MODIFIED:20250208T012027Z
UID:528-1165658400-1165674600@honolulufoundation.org
SUMMARY:Finding your Inner Power: Lessons from Tempu Nakamura
DESCRIPTION:Tempu Nakamura [1876-1968] was one of the\npreeminent thinkers of modern Japan. Son of a\nSamurai\, a secret agent during the Sino-Japanese and\nRusso-Japanese Wars\, a medical student at Columbia\nUniversity\, a student of guru Kaliapa\, a body guard\nof Sun Yat-sen\, and teacher… these descriptions only\ntouch upon the life of Tempu Nakamura who\ndeveloped the philosophy of Shin-shin Toitsu. His\nlife philosophy has influenced many\, including\nprominent leaders\, such as former Prime Minister\nTakashi Hara\, and John D. Rockefeller III.\nLearn how one life can influence so many\, including yours. \nGuest Speaker ： Ryohei Kamiwatari is the author of more than twenty\nbooks\, including three books about Tempu Nakamura that\nbecame critically-acclaimed best-sellers in Japan. After a\nnear-death experience\, he realized that each of us has a\nhigher purpose in life\, and in more than 300 public\nappearances a year\, he shares his vision of this higher\npurpose. In this lecture\, Mr. Kamiwatari will discuss his\nthoughts on the essence of Tempu Philosophy\, why it is\nso intriguing\, and how it has profoundly affected his own life. \n  \n  \n  \n  \n 
URL:https://honolulufoundation.org/event/finding-your-inner-power-lessons-from-tempu-nakamura/
LOCATION:East West Center Imin Hall\, 1777 East-West Road\, Honolulu\, HI\, 96848\, United States
CATEGORIES:Lecture,Lunch
ATTACH;FMTTYPE=image/jpeg:https://honolulufoundation.org/wp-content/uploads/2025/02/12.9.06.-flyer.jpg
END:VEVENT
END:VCALENDAR