BEGIN:VCALENDAR
VERSION:2.0
PRODID:-//Honolulu Foundation - ECPv6.15.20//NONSGML v1.0//EN
CALSCALE:GREGORIAN
METHOD:PUBLISH
X-WR-CALNAME:Honolulu Foundation
X-ORIGINAL-URL:https://honolulufoundation.org
X-WR-CALDESC:Events for Honolulu Foundation
REFRESH-INTERVAL;VALUE=DURATION:PT1H
X-Robots-Tag:noindex
X-PUBLISHED-TTL:PT1H
BEGIN:VTIMEZONE
TZID:Pacific/Honolulu
BEGIN:STANDARD
TZOFFSETFROM:-1000
TZOFFSETTO:-1000
TZNAME:HST
DTSTART:20070101T000000
END:STANDARD
END:VTIMEZONE
BEGIN:VEVENT
DTSTART;TZID=Pacific/Honolulu:20241123T133000
DTEND;TZID=Pacific/Honolulu:20241123T153000
DTSTAMP:20260422T083350
CREATED:20250207T195855Z
LAST-MODIFIED:20250207T195855Z
UID:695-1732368600-1732375800@honolulufoundation.org
SUMMARY:Mieko Yorimasa: The World of the Tale of Genji - Demonstration of Jyuni Hitoe
DESCRIPTION:Reflections on The Tale of Genji…Japan is a country blessed with four seasons; seeking beauty in the changing seasons\, living in harmony with nature\, and treating nature as divine.  A unique culture of respect for nature has been practiced in Japan.  The Tale of Genji\, elegantly depicting the lives of court aristocrats in this culture\, was created by Murasaki Shikibu more than 1000 years ago in medieval Japan. The aesthetic of expressing seasonal change by layering colored clothing is called kasane no irome\, or Juni-Hitoe (twelve layered Kimono)\, and was cultivated in the Imperial court. \nOne of the ceremonies held in the Imperial Palace was “mogi”\, a rite of passage into adulthood for girls.  Princesses wear mogi clothing for the first time at around age 14. \nNoble families with a daughter held a large-scale mogi ceremony to announce that the girl was ready to enter court and get married.   Today we will demonstrate this ceremony. \nMs. Emiko Yorimasa\,  founded Wabunka Densho Kyokai (Japanese Traditional Culture Association) in 2002 to revive and perpetuate Japan’s traditional culture &  art; giving renewed vibrancy to the Japanese spirit as it is passed on to a new generation.                                                                  Ms. Yorimasa serves as Chairman of both the Wabunka Densho Kyokai and the Sowa Kimono Gakuin. She is also a Director at the Sowa Vocational Training School\, an institute specializing in all facets of kimono attire and culture. Additionally\, Ms. Yorimasa is a member of the National Kimono Skills Certification Committee of the Ministry of Health\, Labor\, and Welfare\, and is herself a certified examiner. She also serves as a Central Examination Committee member for the All Japan Kimono Dressing Consultation Association.  With over 50 years of experience\, Ms. Yorimasa is one of Japan’s preeminent experts in kimono dressing and etiquette\, performing demonstrations; not only in Japan\, but also in England\, Italy\, Belgium\, Hungary\, China\, and Taiwan. \n 
URL:https://honolulufoundation.org/event/mieko-yorimasa-the-world-of-the-tale-of-genji-demonstration-of-jyuni-hitoe/
LOCATION:East West Center Imin Hall\, 1777 East-West Road\, Honolulu\, HI\, 96848\, United States
CATEGORIES:Art Show,Demonstration
ATTACH;FMTTYPE=image/jpeg:https://honolulufoundation.org/wp-content/uploads/2025/02/Flyer-Nov-23-2024.jpg
END:VEVENT
BEGIN:VEVENT
DTSTART;TZID=Pacific/Honolulu:20230630T093000
DTEND;TZID=Pacific/Honolulu:20230630T100000
DTSTAMP:20260422T083350
CREATED:20250207T194848Z
LAST-MODIFIED:20250207T194848Z
UID:688-1688117400-1688119200@honolulufoundation.org
SUMMARY:Purification Ritual; Hikime-no-gi Performance
DESCRIPTION:The Hikime no Gi is an important ritual of the Ogasawara-ryu school\, in which those who have been trained and chosen by it use their skills in front of the shrine and in front of many people\, relying on the virtues of the bow and arrow to purify the world. It is performed as a Shinto ritual. Therefore\, in this ceremony\, there are many actions that show the heart to pray for world peace\, national peace\, family prosperity\, etc. In that sense\, it is held at the beginning of the year and the beginning of Shinto rituals. This ritual is performed at many major shrines; such as Omiya Hachimangu\, Sumiyoshi Taisha\, Kasuga Shrine\, Shimogamo Shrine\, Atsuta jingu. \nThis year\, for the first time in Hawaii\, 32nd Generation of Ogasawara Family\, Kiyomoto Ogasawara\, will perform this purification ritual for the people of Hawaii. Admission is free. Parking is limited.
URL:https://honolulufoundation.org/event/purification-ritual-hikime-no-gi-performance/
LOCATION:Gedatsu Church\, Honolulu HI\, 6095 Summer St\, Honolulu\, HI\, 96821\, United States
CATEGORIES:Demonstration
ATTACH;FMTTYPE=image/jpeg:https://honolulufoundation.org/wp-content/uploads/2025/02/Hikime-no-gi.jpg
END:VEVENT
BEGIN:VEVENT
DTSTART;TZID=Pacific/Honolulu:20141128T133000
DTEND;TZID=Pacific/Honolulu:20141128T153000
DTSTAMP:20260422T083350
CREATED:20250207T174931Z
LAST-MODIFIED:20250207T174931Z
UID:604-1417181400-1417188600@honolulufoundation.org
SUMMARY:Aika：Voice Healing
DESCRIPTION:Voice healing by former opera singer Aika.
URL:https://honolulufoundation.org/event/aika%ef%bc%9avoice-healing/
LOCATION:Liliokalani Gardens\, 300 Wai Nani Way\,\, Honolulu\, 96815\, United States
CATEGORIES:Demonstration
ATTACH;FMTTYPE=image/jpeg:https://honolulufoundation.org/wp-content/uploads/2025/02/Aika-san-Nov-28-2014-Liliokalani-Gardens-007-scaled.jpg
END:VEVENT
BEGIN:VEVENT
DTSTART;TZID=Pacific/Honolulu:20080223T133000
DTEND;TZID=Pacific/Honolulu:20080223T153000
DTSTAMP:20260422T083350
CREATED:20250207T162524Z
LAST-MODIFIED:20250208T012901Z
UID:546-1203773400-1203780600@honolulufoundation.org
SUMMARY:Meet the Artist! Morio Matsui
DESCRIPTION:Morio Matsui \n \nBorn in Toyohashi\, Japan in 1942\, Morio Matsui graduated from the Musashino College of Fine Arts (Tokyo) before continuing his training in France\, at the Académie Julian and later at the Ecole des Beaux Arts in Paris. Having lived in Corsica for the past ten years\, he is the first Japanese artist to whom France has awarded the titles of “Chevalier des Arts et des Lettres” (2000) and “Chevalier de la Légion d’Honneur” (2003) for his remarkable contribution to the development of Franco-Japanese co-operation in cultural matters. \nWeb site : http://www.matsuimorio.jp/Zindex.htm \nWhen he met Picasso\, Picasso said\, “This fellow has eyes of a feverish fight with real swords such that I might be outstripped some time.” Picasso also said\, “You will become a painter like me\, however\, don’t try to be me\, but Morio Matsui yourself.” \n  \n 
URL:https://honolulufoundation.org/event/meet-the-artist-morio-matsui/
LOCATION:The Art Board\, 1170 Nuuanu Ave\, Honolulu\, HI\, 96817\, United States
CATEGORIES:Art Show,Demonstration
ATTACH;FMTTYPE=image/jpeg:https://honolulufoundation.org/wp-content/uploads/2025/02/matuiJP.jpg
END:VEVENT
END:VCALENDAR